BEGIN:VCALENDAR
VERSION:2.0
PRODID:-//Cleansing Stream - ECPv6.9.0//NONSGML v1.0//EN
CALSCALE:GREGORIAN
METHOD:PUBLISH
X-ORIGINAL-URL:https://www.cleansingstream.org.nz
X-WR-CALDESC:Events for Cleansing Stream
REFRESH-INTERVAL;VALUE=DURATION:PT1H
X-Robots-Tag:noindex
X-PUBLISHED-TTL:PT1H
BEGIN:VTIMEZONE
TZID:Pacific/Auckland
BEGIN:STANDARD
TZOFFSETFROM:+1300
TZOFFSETTO:+1200
TZNAME:NZST
DTSTART:20250405T140000
END:STANDARD
BEGIN:DAYLIGHT
TZOFFSETFROM:+1200
TZOFFSETTO:+1300
TZNAME:NZDT
DTSTART:20250927T140000
END:DAYLIGHT
END:VTIMEZONE
BEGIN:VEVENT
DTSTART;TZID=Pacific/Auckland:20250517T090000
DTEND;TZID=Pacific/Auckland:20250517T170000
DTSTAMP:20260424T223407
CREATED:20180207T123627Z
LAST-MODIFIED:20250213T220013Z
UID:355-1747472400-1747501200@www.cleansingstream.org.nz
SUMMARY:Auckland Freedom Day - 17 May 2025
DESCRIPTION:Seminars begin March/April. Contact us for details. \n  \n 
URL:https://www.cleansingstream.org.nz/event/auckland-may-freedom-day/
LOCATION:Auckland\, Auckland
CATEGORIES:Upcoming
END:VEVENT
END:VCALENDAR