BEGIN:VCALENDAR
VERSION:2.0
PRODID:-//Cleansing Stream - ECPv6.9.0//NONSGML v1.0//EN
CALSCALE:GREGORIAN
METHOD:PUBLISH
X-WR-CALNAME:Cleansing Stream
X-ORIGINAL-URL:https://www.cleansingstream.org.nz
X-WR-CALDESC:Events for Cleansing Stream
REFRESH-INTERVAL;VALUE=DURATION:PT1H
X-Robots-Tag:noindex
X-PUBLISHED-TTL:PT1H
BEGIN:VTIMEZONE
TZID:Pacific/Auckland
BEGIN:STANDARD
TZOFFSETFROM:+1300
TZOFFSETTO:+1200
TZNAME:NZST
DTSTART:20260404T140000
END:STANDARD
BEGIN:DAYLIGHT
TZOFFSETFROM:+1200
TZOFFSETTO:+1300
TZNAME:NZDT
DTSTART:20260926T140000
END:DAYLIGHT
END:VTIMEZONE
BEGIN:VEVENT
DTSTART;TZID=Pacific/Auckland:20261024T090000
DTEND;TZID=Pacific/Auckland:20261024T170000
DTSTAMP:20260424T153916
CREATED:20231214T035908Z
LAST-MODIFIED:20260415T043132Z
UID:979-1792832400-1792861200@www.cleansingstream.org.nz
SUMMARY:Hervey Bay Freedom Day - 24 October 2026 - TO BE CONFIRMED
DESCRIPTION:Seminars begin August.  Contact us for details.
URL:https://www.cleansingstream.org.nz/event/hervey-bay-freedom-day-19-october-2024/
LOCATION:Hervey Bay\, Hervey Bay\, Australia
CATEGORIES:Upcoming
END:VEVENT
END:VCALENDAR