BEGIN:VCALENDAR
VERSION:2.0
PRODID:-//Cleansing Stream - ECPv6.9.0//NONSGML v1.0//EN
CALSCALE:GREGORIAN
METHOD:PUBLISH
X-WR-CALNAME:Cleansing Stream
X-ORIGINAL-URL:https://www.cleansingstream.org.nz
X-WR-CALDESC:Events for Cleansing Stream
REFRESH-INTERVAL;VALUE=DURATION:PT1H
X-Robots-Tag:noindex
X-PUBLISHED-TTL:PT1H
BEGIN:VTIMEZONE
TZID:Pacific/Auckland
BEGIN:STANDARD
TZOFFSETFROM:+1300
TZOFFSETTO:+1200
TZNAME:NZST
DTSTART:20260404T140000
END:STANDARD
BEGIN:DAYLIGHT
TZOFFSETFROM:+1200
TZOFFSETTO:+1300
TZNAME:NZDT
DTSTART:20260926T140000
END:DAYLIGHT
END:VTIMEZONE
BEGIN:VEVENT
DTSTART;TZID=Pacific/Auckland:20260801T090000
DTEND;TZID=Pacific/Auckland:20260801T170000
DTSTAMP:20260424T103537
CREATED:20260320T003632Z
LAST-MODIFIED:20260413T000712Z
UID:1128-1785574800-1785603600@www.cleansingstream.org.nz
SUMMARY:Kuching Freedom Day - 1 August 2026
DESCRIPTION:Seminars begin June.  Contact us for details.
URL:https://www.cleansingstream.org.nz/event/kuching-freedom-day-1-august-2026/
LOCATION:Kuching\, Kuching\, Malaysia
CATEGORIES:Upcoming
END:VEVENT
END:VCALENDAR