BEGIN:VCALENDAR
VERSION:2.0
PRODID:-//Cleansing Stream - ECPv6.9.0//NONSGML v1.0//EN
CALSCALE:GREGORIAN
METHOD:PUBLISH
X-WR-CALNAME:Cleansing Stream
X-ORIGINAL-URL:https://www.cleansingstream.org.nz
X-WR-CALDESC:Events for Cleansing Stream
REFRESH-INTERVAL;VALUE=DURATION:PT1H
X-Robots-Tag:noindex
X-PUBLISHED-TTL:PT1H
BEGIN:VTIMEZONE
TZID:Pacific/Auckland
BEGIN:STANDARD
TZOFFSETFROM:+1300
TZOFFSETTO:+1200
TZNAME:NZST
DTSTART:20240406T140000
END:STANDARD
BEGIN:DAYLIGHT
TZOFFSETFROM:+1200
TZOFFSETTO:+1300
TZNAME:NZDT
DTSTART:20240928T140000
END:DAYLIGHT
BEGIN:STANDARD
TZOFFSETFROM:+1300
TZOFFSETTO:+1200
TZNAME:NZST
DTSTART:20250405T140000
END:STANDARD
BEGIN:DAYLIGHT
TZOFFSETFROM:+1200
TZOFFSETTO:+1300
TZNAME:NZDT
DTSTART:20250927T140000
END:DAYLIGHT
BEGIN:STANDARD
TZOFFSETFROM:+1300
TZOFFSETTO:+1200
TZNAME:NZST
DTSTART:20260404T140000
END:STANDARD
BEGIN:DAYLIGHT
TZOFFSETFROM:+1200
TZOFFSETTO:+1300
TZNAME:NZDT
DTSTART:20260926T140000
END:DAYLIGHT
TZID:UTC
BEGIN:STANDARD
TZOFFSETFROM:+0000
TZOFFSETTO:+0000
TZNAME:UTC
DTSTART:20250101T000000
END:STANDARD
END:VTIMEZONE
BEGIN:VEVENT
DTSTART;TZID=Pacific/Auckland:20261024T090000
DTEND;TZID=Pacific/Auckland:20261024T170000
DTSTAMP:20260424T224349
CREATED:20231214T035908Z
LAST-MODIFIED:20260415T043132Z
UID:979-1792832400-1792861200@www.cleansingstream.org.nz
SUMMARY:Hervey Bay Freedom Day - 24 October 2026 - TO BE CONFIRMED
DESCRIPTION:Seminars begin August.  Contact us for details.
URL:https://www.cleansingstream.org.nz/event/hervey-bay-freedom-day-19-october-2024/
LOCATION:Hervey Bay\, Hervey Bay\, Australia
CATEGORIES:Upcoming
END:VEVENT
BEGIN:VEVENT
DTSTART;TZID=Pacific/Auckland:20261017T090000
DTEND;TZID=Pacific/Auckland:20261017T170000
DTSTAMP:20260424T224349
CREATED:20260320T004816Z
LAST-MODIFIED:20260413T000712Z
UID:1134-1792227600-1792256400@www.cleansingstream.org.nz
SUMMARY:Melbourne Freedom Day - 17 October 2026
DESCRIPTION:Contact us for details.
URL:https://www.cleansingstream.org.nz/event/melbourne-freedom-day-17-october-2026/
LOCATION:Melbourne\, Melbourne\, Australia
CATEGORIES:Upcoming
END:VEVENT
BEGIN:VEVENT
DTSTART;TZID=Pacific/Auckland:20261003T090000
DTEND;TZID=Pacific/Auckland:20261003T170000
DTSTAMP:20260424T224349
CREATED:20260320T004158Z
LAST-MODIFIED:20260413T000712Z
UID:1132-1791018000-1791046800@www.cleansingstream.org.nz
SUMMARY:Gold Coast Freedom Day - 3 October 2026
DESCRIPTION:Seminars begin August.  Contact us for details.
URL:https://www.cleansingstream.org.nz/event/gold-coast-freedom-day-3-october-2026/
LOCATION:Gold Coast\, Gold Coast\, Australia
CATEGORIES:Upcoming
END:VEVENT
BEGIN:VEVENT
DTSTART;TZID=Pacific/Auckland:20260912T090000
DTEND;TZID=Pacific/Auckland:20260912T170000
DTSTAMP:20260424T224349
CREATED:20260320T003905Z
LAST-MODIFIED:20260413T000712Z
UID:1130-1789203600-1789232400@www.cleansingstream.org.nz
SUMMARY:New Plymouth Freedom Day - 12 September 2026
DESCRIPTION:Seminars begin July/August.  Contact us for details.
URL:https://www.cleansingstream.org.nz/event/new-plymouth-freedom-day-12-september-2026/
LOCATION:New Plymouth\, New Plymouth
CATEGORIES:Upcoming
END:VEVENT
BEGIN:VEVENT
DTSTART;TZID=Pacific/Auckland:20260808T090000
DTEND;TZID=Pacific/Auckland:20260808T170000
DTSTAMP:20260424T224349
CREATED:20260413T060911Z
LAST-MODIFIED:20260413T060939Z
UID:1149-1786179600-1786208400@www.cleansingstream.org.nz
SUMMARY:Palmerston North Freedom Day - 8 August 2026
DESCRIPTION:Seminars begin June.  Contact us for details.
URL:https://www.cleansingstream.org.nz/event/palmerston-north-freedom-day-8-august-2026/
LOCATION:Palmerston North\, Palmerston North
CATEGORIES:Upcoming
END:VEVENT
BEGIN:VEVENT
DTSTART;TZID=Pacific/Auckland:20260801T090000
DTEND;TZID=Pacific/Auckland:20260801T170000
DTSTAMP:20260424T224349
CREATED:20260320T003632Z
LAST-MODIFIED:20260413T000712Z
UID:1128-1785574800-1785603600@www.cleansingstream.org.nz
SUMMARY:Kuching Freedom Day - 1 August 2026
DESCRIPTION:Seminars begin June.  Contact us for details.
URL:https://www.cleansingstream.org.nz/event/kuching-freedom-day-1-august-2026/
LOCATION:Kuching\, Kuching\, Malaysia
CATEGORIES:Upcoming
END:VEVENT
BEGIN:VEVENT
DTSTART;TZID=Pacific/Auckland:20260627T090000
DTEND;TZID=Pacific/Auckland:20260627T170000
DTSTAMP:20260424T224349
CREATED:20260320T003345Z
LAST-MODIFIED:20260413T000712Z
UID:1126-1782550800-1782579600@www.cleansingstream.org.nz
SUMMARY:Auckland Freedom Day - 27 June 2026
DESCRIPTION:Seminars begin April/May.  Contact us for details.
URL:https://www.cleansingstream.org.nz/event/auckland-freedom-day-27-june-2026/
LOCATION:Auckland\, Auckland
CATEGORIES:Upcoming
END:VEVENT
BEGIN:VEVENT
DTSTART;TZID=Pacific/Auckland:20260627T090000
DTEND;TZID=Pacific/Auckland:20260627T170000
DTSTAMP:20260424T224349
CREATED:20260320T003206Z
LAST-MODIFIED:20260413T000712Z
UID:1124-1782550800-1782579600@www.cleansingstream.org.nz
SUMMARY:Lower Hutt Freedom Day - 27 June 2026
DESCRIPTION:Seminars begin May.  Contact us for details.
URL:https://www.cleansingstream.org.nz/event/lower-hutt-freedom-day-27-june-2026/
LOCATION:Lower Hutt\, Lower Hutt
CATEGORIES:Upcoming
END:VEVENT
BEGIN:VEVENT
DTSTART;TZID=Pacific/Auckland:20260620T090000
DTEND;TZID=Pacific/Auckland:20260620T170000
DTSTAMP:20260424T224349
CREATED:20260320T001909Z
LAST-MODIFIED:20260413T000712Z
UID:1116-1781946000-1781974800@www.cleansingstream.org.nz
SUMMARY:Tauranga Freedom Day - 20 June 2026
DESCRIPTION:Seminars begin April.  Contact us for details.
URL:https://www.cleansingstream.org.nz/event/tauranga-freedom-day-20-june-2026/
LOCATION:Tauranga\, Tauranga
CATEGORIES:Upcoming
END:VEVENT
BEGIN:VEVENT
DTSTART;TZID=Pacific/Auckland:20260530T090000
DTEND;TZID=Pacific/Auckland:20260530T170000
DTSTAMP:20260424T224349
CREATED:20260320T003024Z
LAST-MODIFIED:20260413T000712Z
UID:1122-1780131600-1780160400@www.cleansingstream.org.nz
SUMMARY:Hervey Bay Freedom Day - 30 May 2026
DESCRIPTION:Seminars begin April.  Contact us for details.
URL:https://www.cleansingstream.org.nz/event/hervey-bay-freedom-day-30-may-2026/
LOCATION:Hervey Bay\, Hervey Bay\, Australia
CATEGORIES:Upcoming
END:VEVENT
BEGIN:VEVENT
DTSTART;TZID=Pacific/Auckland:20260523T090000
DTEND;TZID=Pacific/Auckland:20260523T170000
DTSTAMP:20260424T224349
CREATED:20260320T002844Z
LAST-MODIFIED:20260413T000712Z
UID:1120-1779526800-1779555600@www.cleansingstream.org.nz
SUMMARY:Gold Coast Freedom Day - 23 May 2026
DESCRIPTION:Seminars begin March/April.  Contact us for details.
URL:https://www.cleansingstream.org.nz/event/gold-coast-freedom-day-23-may-2026/
LOCATION:Gold Coast\, Gold Coast\, Australia
CATEGORIES:Upcoming
END:VEVENT
BEGIN:VEVENT
DTSTART;TZID=Pacific/Auckland:20251108T090000
DTEND;TZID=Pacific/Auckland:20251108T170000
DTSTAMP:20260424T224349
CREATED:20180621T222611Z
LAST-MODIFIED:20250213T220819Z
UID:437-1762592400-1762621200@www.cleansingstream.org.nz
SUMMARY:Wellington Freedom Day - 8 November 2025
DESCRIPTION:Seminars begin September/October.  Contact us for details.
URL:https://www.cleansingstream.org.nz/event/wellington-november-freedom-day/
LOCATION:Wellington\, Wellington
CATEGORIES:Upcoming
END:VEVENT
BEGIN:VEVENT
DTSTART;TZID=Pacific/Auckland:20251101T090000
DTEND;TZID=Pacific/Auckland:20251101T170000
DTSTAMP:20260424T224349
CREATED:20171204T144203Z
LAST-MODIFIED:20250213T220738Z
UID:351-1761987600-1762016400@www.cleansingstream.org.nz
SUMMARY:Auckland Freedom Day - 1 November 2025
DESCRIPTION:Seminars begin September/October.  Contact us for details.
URL:https://www.cleansingstream.org.nz/event/auckland-november-freedom-day/
LOCATION:Auckland\, Auckland
CATEGORIES:Upcoming
END:VEVENT
BEGIN:VEVENT
DTSTART;TZID=Pacific/Auckland:20251018T090000
DTEND;TZID=Pacific/Auckland:20251018T170000
DTSTAMP:20260424T224349
CREATED:20181217T235935Z
LAST-MODIFIED:20250213T220843Z
UID:490-1760778000-1760806800@www.cleansingstream.org.nz
SUMMARY:Gold Coast Freedom Day - 18 October 2025
DESCRIPTION:Seminar begins August/September. Contact us for details. \n 
URL:https://www.cleansingstream.org.nz/event/palmerstonnorth-freedom-day/
LOCATION:Gold Coast\, Gold Coast\, Australia
CATEGORIES:Upcoming
END:VEVENT
BEGIN:VEVENT
DTSTART;TZID=Pacific/Auckland:20251011T090000
DTEND;TZID=Pacific/Auckland:20251011T170000
DTSTAMP:20260424T224349
CREATED:20231214T034857Z
LAST-MODIFIED:20250214T014517Z
UID:976-1760173200-1760202000@www.cleansingstream.org.nz
SUMMARY:Malaysia Freedom Day - 11 October 2025
DESCRIPTION:
URL:https://www.cleansingstream.org.nz/event/malaysia-freedom-day-5-october-2024/
LOCATION:Kuching\, Kuching\, Malaysia
CATEGORIES:Upcoming
END:VEVENT
BEGIN:VEVENT
DTSTART;TZID=Pacific/Auckland:20250913T090000
DTEND;TZID=Pacific/Auckland:20250913T170000
DTSTAMP:20260424T224349
CREATED:20210702T045108Z
LAST-MODIFIED:20250213T220554Z
UID:822-1757754000-1757782800@www.cleansingstream.org.nz
SUMMARY:New Plymouth Freedom Day - 13 September 2025
DESCRIPTION:Seminars begin July.  Contact us for details.
URL:https://www.cleansingstream.org.nz/event/new-plymouth-freedom-day/
LOCATION:New Plymouth\, New Plymouth
CATEGORIES:Upcoming
END:VEVENT
BEGIN:VEVENT
DTSTART;TZID=Pacific/Auckland:20250719T090000
DTEND;TZID=Pacific/Auckland:20250719T170000
DTSTAMP:20260424T224349
CREATED:20180914T022946Z
LAST-MODIFIED:20250213T215628Z
UID:466-1752915600-1752944400@www.cleansingstream.org.nz
SUMMARY:Wellington Freedom Day - 19 July 2025
DESCRIPTION:Seminars begin May.  Contact us for details.
URL:https://www.cleansingstream.org.nz/event/wellington-july-freedom-day/
LOCATION:Lower Hutt\, Lower Hutt
CATEGORIES:Upcoming
END:VEVENT
BEGIN:VEVENT
DTSTART;TZID=UTC:20250614T090000
DTEND;TZID=UTC:20250614T170000
DTSTAMP:20260424T224349
CREATED:20171204T143912Z
LAST-MODIFIED:20250213T220108Z
UID:345-1749891600-1749920400@www.cleansingstream.org.nz
SUMMARY:Tauranga Freedom Day - 14 June 2025
DESCRIPTION:Seminars begin April.  Contact us for details.
URL:https://www.cleansingstream.org.nz/event/tauranga-freedom-day/
LOCATION:Tauranga\, Tauranga
CATEGORIES:Upcoming
END:VEVENT
BEGIN:VEVENT
DTSTART;TZID=Pacific/Auckland:20250531T090000
DTEND;TZID=Pacific/Auckland:20250531T170000
DTSTAMP:20260424T224349
CREATED:20231214T034536Z
LAST-MODIFIED:20250213T215753Z
UID:866-1748682000-1748710800@www.cleansingstream.org.nz
SUMMARY:Gold Coast Freedom Day - 31 May 2025
DESCRIPTION:Seminars begin April.  Contact us for details.
URL:https://www.cleansingstream.org.nz/event/gold-coast-freedom-day-1-june-2024/
LOCATION:Gold Coast\, Gold Coast\, Australia
CATEGORIES:Upcoming
END:VEVENT
BEGIN:VEVENT
DTSTART;TZID=Pacific/Auckland:20250517T090000
DTEND;TZID=Pacific/Auckland:20250517T170000
DTSTAMP:20260424T224349
CREATED:20180207T123627Z
LAST-MODIFIED:20250213T220013Z
UID:355-1747472400-1747501200@www.cleansingstream.org.nz
SUMMARY:Auckland Freedom Day - 17 May 2025
DESCRIPTION:Seminars begin March/April. Contact us for details. \n  \n 
URL:https://www.cleansingstream.org.nz/event/auckland-may-freedom-day/
LOCATION:Auckland\, Auckland
CATEGORIES:Upcoming
END:VEVENT
BEGIN:VEVENT
DTSTART;TZID=Pacific/Auckland:20240413T090000
DTEND;TZID=Pacific/Auckland:20240413T170000
DTSTAMP:20260424T224349
CREATED:20210702T044740Z
LAST-MODIFIED:20240415T080115Z
UID:820-1712998800-1713027600@www.cleansingstream.org.nz
SUMMARY:Blenheim Freedom Day - 13 April 2024
DESCRIPTION:Seminar begins February.   Contact us for details.
URL:https://www.cleansingstream.org.nz/event/hamilton-freedom-day-march-2022/
LOCATION:Blenheim\, Blenheim
CATEGORIES:Upcoming
END:VEVENT
END:VCALENDAR