BEGIN:VCALENDAR
VERSION:2.0
PRODID:-//Cleansing Stream - ECPv6.9.0//NONSGML v1.0//EN
CALSCALE:GREGORIAN
METHOD:PUBLISH
X-WR-CALNAME:Cleansing Stream
X-ORIGINAL-URL:https://www.cleansingstream.org.nz
X-WR-CALDESC:Events for Cleansing Stream
REFRESH-INTERVAL;VALUE=DURATION:PT1H
X-Robots-Tag:noindex
X-PUBLISHED-TTL:PT1H
BEGIN:VTIMEZONE
TZID:UTC
BEGIN:STANDARD
TZOFFSETFROM:+0000
TZOFFSETTO:+0000
TZNAME:UTC
DTSTART:20250101T000000
END:STANDARD
END:VTIMEZONE
BEGIN:VEVENT
DTSTART;TZID=UTC:20250614T090000
DTEND;TZID=UTC:20250614T170000
DTSTAMP:20260424T193849
CREATED:20171204T143912Z
LAST-MODIFIED:20250213T220108Z
UID:345-1749891600-1749920400@www.cleansingstream.org.nz
SUMMARY:Tauranga Freedom Day - 14 June 2025
DESCRIPTION:Seminars begin April.  Contact us for details.
URL:https://www.cleansingstream.org.nz/event/tauranga-freedom-day/
LOCATION:Tauranga\, Tauranga
CATEGORIES:Upcoming
END:VEVENT
END:VCALENDAR